BEGIN:VCALENDAR
VERSION:2.0
PRODID:-//Acme Widgets\, Inc.//NONSGML ExportToCalendar//EN
CALSCALE:GREGORIAN
BEGIN:VEVENT
DTSTAMP:20260425T135016Z
UID:4748ac7a-0a08-4db8-b7c9-5bd2b9c8c189
DTSTART;TZID="(GMT+01:00) Zagreb":20260426T123000
DTEND;TZID="(GMT+01:00) Zagreb":20260426T145600
DESCRIPTION:Snimka rasprodanog nastupa K-pop grupe na stadionu SoFi u Los A
 ngelesu\, koja kombinira koncertne snimke sa svjetske turneje Stray Kidsa 
 dominATE s materijalima iza kulisa.
LOCATION:Mesnička ulica 12\, Zagreb
SUMMARY:Stray Kids
URL;VALUE=URI:https://kinoholik.hr/film/stray-kids
END:VEVENT
END:VCALENDAR
