BEGIN:VCALENDAR
VERSION:2.0
PRODID:-//Acme Widgets\, Inc.//NONSGML ExportToCalendar//EN
CALSCALE:GREGORIAN
BEGIN:VEVENT
DTSTAMP:20260425T104435Z
UID:285fe7ae-8b9c-4d62-8e19-beeb273f0803
DTSTART;TZID="(GMT+01:00) Zagreb":20260429T190000
DTEND;TZID="(GMT+01:00) Zagreb":20260429T191800
DESCRIPTION:Duhoviti prikaz puha – proždrljive i lukave životinje\, koj
 a je nekada bila predmet raznih praznovjerja\, ali već odavno je cijenjen
 a zbog svog krzna i svog ukusa…
LOCATION:Boškovićeva 23\, II.kat
SUMMARY:Puh
URL;VALUE=URI:https://kinoholik.hr/film/puh-bd87e7c5-6578-4781-b81c-edabf58
 e7c4a
END:VEVENT
END:VCALENDAR
