BEGIN:VCALENDAR
VERSION:2.0
PRODID:-//Acme Widgets\, Inc.//NONSGML ExportToCalendar//EN
CALSCALE:GREGORIAN
BEGIN:VEVENT
DTSTAMP:20260424T050228Z
UID:3736373d-6961-4156-a5ee-2978fbd4fb11
DTSTART;TZID="(GMT+01:00) Zagreb":20260502T100000
DTEND;TZID="(GMT+01:00) Zagreb":20260502T112700
DESCRIPTION:Kad se razmažena kućna mačka Moxy tijekom obiteljskog putova
 nja izgubi daleko od doma\, započinje velika avantura kroz jug Europe. Ka
 ko bi pronašla put kući\, morat će napraviti nešto što joj se čini n
 ezamislivim — zatražiti pomoć od onih koje je uvijek izbjegavala. Na p
 utovanju joj se pridružuju Brute\, dobrodušan ali nespretan pas\, i Ayo\
 , stara i mudra lastavica. Zajedno kreću na nepredvidivo putovanje puno h
 umora\, uzbuđenja i novih prijateljstava.
LOCATION:Kordunska ulica 1\, Zagreb
SUMMARY:Mačja posla
URL;VALUE=URI:https://kinoholik.hr/film/macja-posla
END:VEVENT
END:VCALENDAR
