BEGIN:VCALENDAR
VERSION:2.0
PRODID:-//Acme Widgets\, Inc.//NONSGML ExportToCalendar//EN
CALSCALE:GREGORIAN
BEGIN:VEVENT
DTSTAMP:20260425T235542Z
UID:dfba6108-5fcb-4c9c-8663-38a2f34421fe
DTSTART;TZID="(GMT+01:00) Zagreb":20260427T180000
DTEND;TZID="(GMT+01:00) Zagreb":20260427T193000
DESCRIPTION:Ustaški pokret 1941. uspostavlja Nezavisnu Državu Hrvatsku i 
 odmah započinje s terorom prema Srbima\, Židovima\, Romima i onim Hrvati
 ma koji ne prihvaćaju nov poredak. Na stadionu u Maksimiru\, ustaše odlu
 če demonstrativno odvojiti srednjoškolce srpske i židovske nacionalnost
 i od onih hrvatske\, no mladi komunistički ilegalci - skojevci\, odluče 
 sabotirati akciju i zapaliti (drveni) stadion. Među njima je i mladi gimn
 azijalac čija je djevojka\, kći gimnazijskog profesora\, srpske nacional
 nosti\, dok mu je najbolji prijatelj postao zagriženi ustaša...\nFilm je
  na festivalu u Puli  1977. osvojio Zlatnu arenu za scenarij i Veliku sre
 brnu arenu.
LOCATION:Kordunska ulica 1\, Zagreb
SUMMARY:Akcija stadion
URL;VALUE=URI:https://kinoholik.hr/film/akcija-stadion
END:VEVENT
END:VCALENDAR
