BEGIN:VCALENDAR
VERSION:2.0
PRODID:-//Acme Widgets\, Inc.//NONSGML ExportToCalendar//EN
CALSCALE:GREGORIAN
BEGIN:VEVENT
DTSTAMP:20260423T174626Z
UID:529ea219-e014-4c4a-ba72-76b0ba04dc7c
DTSTART;TZID="(GMT+01:00) Zagreb":20260511T190000
DTEND;TZID="(GMT+01:00) Zagreb":20260511T203500
DESCRIPTION:"Znate gdje je selo Črevo? Ni desno\, ni levo. Samo Črevo. Ta
 mo je Bog rekao laku noć i upravo tamo dolazi NNHTV ("Naša najnovija hrv
 atska televizija") snimiti prilog o hrvatskom seljaku u Europi. Precednik\
 , animator kulture\, blagajnica i predstavnik nacionalne manjine spremaju 
 se za najvažniji dan u godini - skupštinu sela Črevo. Nakon smrdljivih 
 razgovora o odvodnim jarcima i uvijek aktualne akcije "Zbogom oružje"\, n
 a red dolazi priredba za Črevare uz lošu recitaciju\, dobru narodnu glaz
 bu\, puno gemišti i kobasica sa senfom."Svi smo mi MARGINALCI. Borimo se 
 za novu kanalizaciju i odvodne jarke. Organiziramo akciju "Zbogom oružje"
 \, a doma imamo još artiljerije za pola ulice. Oplakujemo susjeda s kojim
  nismo cijeli život mogli popiti ni jedan gemišt. Branimo prava homoseks
 ualaca\, ali molimo Boga da nam je obitelj heteroseksualna. Rome nazivamo 
 ciganima\, a među nama ima više cigana nego među Romima. Politika nas u
 či životu\, jer škole su naporne. Bolnice nam se urušavaju\, no zato i
 mamo jako čvrste spomenike. Živjela Hrvatska! Živjeli MARGINALCI!
LOCATION:Trg Dragutina Domjanića 6\, Sesvete
SUMMARY:Marginalci
URL;VALUE=URI:https://kinoholik.hr/film/marginalci
END:VEVENT
END:VCALENDAR
