BEGIN:VCALENDAR
VERSION:2.0
PRODID:-//Acme Widgets\, Inc.//NONSGML ExportToCalendar//EN
CALSCALE:GREGORIAN
BEGIN:VEVENT
DTSTAMP:20260423T174145Z
UID:3a1bd5d7-e717-4341-93f2-d4a67d5fcff4
DTSTART;TZID="(GMT+01:00) Zagreb":20260504T190000
DTEND;TZID="(GMT+01:00) Zagreb":20260504T203700
DESCRIPTION:Film je nostalgični autobiografski prikaz autorove adolescenci
 je u SR Hrvatska u bivšoj SFRJ tijekom kasnih 1970-ih i ranih 1980-ih u v
 rijeme kada se na sceni bivše države pojavljuju punk i novi val\, pretva
 rajući tako film u "rockumentari". Film sadrži intervjue i rijetke snimk
 e s nekim od najpoznatijih sastava tog vremena kao što su bili: Azra\, Fi
 lm i Haustor iz Zagreba\, gdje se i većina radnje odigrava\; onda i s čl
 anovima Električnog orgazma i Idola koji su intervjuirani u Beogradu\, pa
  onda Pankrti i Buldožer iz Ljubljane.
LOCATION:Trg Dragutina Domjanića 6\, Sesvete
SUMMARY:Sretno dijete
URL;VALUE=URI:https://kinoholik.hr/film/sretno-dijete
END:VEVENT
END:VCALENDAR
