BEGIN:VCALENDAR
VERSION:2.0
PRODID:-//Acme Widgets\, Inc.//NONSGML ExportToCalendar//EN
CALSCALE:GREGORIAN
BEGIN:VEVENT
DTSTAMP:20260423T191113Z
UID:85b7a0b9-efaa-4e12-b494-74a6ba519c80
DTSTART;TZID="(GMT+01:00) Zagreb":20260426T210000
DTEND;TZID="(GMT+01:00) Zagreb":20260426T225600
DESCRIPTION:Munjeviti Jurić\, uspješni novi trkaći auto kojeg pokreće 
 želja za pobjedom\, otkriva da je život putovanje\, a ne fotofiniš\, ka
 da se neočekivano nađe u uspavanome gradiću Radiator Springsu na Route 
 66. Na putovanju kroz zemlju na „Piston Cup Championship“ u Kalifornij
 i gdje će se natjecati protiv dva iskusna profića\, Munjeviti će Jurić
  upoznati nekonvencionalne stanovnike grada koji uključuju Doca Hudsona\,
  Sanju Sportivo i hrđavog\, ali pouzdanog kamiona Šlepa koji mu pomažu 
 shvatiti da ima i važnijih stvari od trofeja\, slave i sponzora.
LOCATION:Parkiralište Tržnica Borongaj\, Zagreb
SUMMARY:Auti
URL;VALUE=URI:https://kinoholik.hr/film/auti
END:VEVENT
END:VCALENDAR
