BEGIN:VCALENDAR
VERSION:2.0
PRODID:-//Acme Widgets\, Inc.//NONSGML ExportToCalendar//EN
CALSCALE:GREGORIAN
BEGIN:VEVENT
DTSTAMP:20260420T173230Z
UID:62cbe9f9-97b3-4e35-ba00-9f331fc010b3
DTSTART;TZID="(GMT+01:00) Zagreb":20260508T180000
DTEND;TZID="(GMT+01:00) Zagreb":20260508T191500
DESCRIPTION:Od dubokih amazonskih šuma i zabačenih sela na Himalaji\, pre
 ko malih pacifičkih zemalja i afričkih slamova\, sve do najvećih svjet
 skih metropola\, Ljubav oko svijeta prikazuje 33 različite priče o ljub
 avi i braku\, izazovima i borbama\, usponima i padovima\, stvarajući jedi
 nstvenu ljubavnu priču koja podsjeća kako je tek nekoliko stvari na Zem
 lji jednostavno poput ljubavi.
LOCATION:MSU\, Avenija Dubrovnik 17\, Zagreb
SUMMARY:Ljubav oko svijeta
URL;VALUE=URI:https://kinoholik.hr/film/ljubav-oko-svijeta
END:VEVENT
END:VCALENDAR
