BEGIN:VCALENDAR
VERSION:2.0
PRODID:-//Acme Widgets\, Inc.//NONSGML ExportToCalendar//EN
CALSCALE:GREGORIAN
BEGIN:VEVENT
DTSTAMP:20260421T003859Z
UID:186bb4ba-8a01-4c28-86d6-6c8ba957dbb0
DTSTART;TZID="(GMT+01:00) Zagreb":20250322T110000
DTEND;TZID="(GMT+01:00) Zagreb":20250322T110200
DESCRIPTION:Traume iz djetinjstva postaju uobličene kroz figure igračaka 
 koje gube svoju inače pozitivnu konotaciju.
LOCATION:Preradovićeva 5\, Zagreb
SUMMARY:Igračka
URL;VALUE=URI:https://kinoholik.hr/film/igracka
END:VEVENT
END:VCALENDAR
